BEGIN:VCALENDAR
VERSION:2.0
PRODID:-//Tukios.com/
BEGIN:VEVENT
UID:0ec9e8fd-7c91-49c3-ad4b-f9c0620ce74a@www.bartleyandsons.com
DTSTAMP:20260424T203558Z
DTSTART:20260426T210000Z
DTEND:20260427T010000Z
SUMMARY:Visitation
DESCRIPTION:
URL:https://www.bartleyandsons.com/obituaries/judy-hagan
LOCATION:Bartley & Sons Funeral Home 204 COLUMBIA AVE  TOMPKINSVILLE KY 
	42167
GEO:36.7041363;-85.6908953
END:VEVENT
END:VCALENDAR