BEGIN:VCALENDAR
VERSION:2.0
PRODID:-//Tukios.com/
BEGIN:VEVENT
UID:e6ca3117-afc6-4a5a-ac83-1ca244d0cc50@www.bartleyandsons.com
DTSTAMP:20260424T204027Z
DTSTART:20260427T130000Z
DTEND:20260427T160000Z
SUMMARY:Visitation
DESCRIPTION:
URL:https://www.bartleyandsons.com/obituaries/judy-hagan
LOCATION: 204 COLUMBIA AVE  TOMPKINSVILLE KY 42167
GEO:36.7041363;-85.6908953
END:VEVENT
END:VCALENDAR