BEGIN:VCALENDAR
VERSION:2.0
PRODID:-//Tukios.com/
BEGIN:VEVENT
UID:16dde858-5de3-4254-a104-456b6f6153f1@www.bartleyandsons.com
DTSTAMP:20260424T204026Z
DTSTART:20260427T160000Z
DTEND:20260427T170000Z
SUMMARY:Funeral Service
DESCRIPTION:
URL:https://www.bartleyandsons.com/obituaries/judy-hagan
LOCATION:Bartley & Sons Funeral Home 204 COLUMBIA AVE  TOMPKINSVILLE KY 
	42167
GEO:36.7041363;-85.6908953
END:VEVENT
END:VCALENDAR