BEGIN:VCALENDAR
VERSION:2.0
PRODID:-//Tukios.com/
BEGIN:VEVENT
UID:e13c7541-0e07-487c-bd05-8f5e6e118660@www.bartleyandsons.com
DTSTAMP:20260424T203339Z
DTSTART:20260427T171500Z
DTEND:20260427T181500Z
SUMMARY:Burial
DESCRIPTION:
URL:https://www.bartleyandsons.com/obituaries/judy-hagan
LOCATION: Old Edmonton Road   Tompkinsville KY 42167
GEO:36.7410771;-85.6984035
END:VEVENT
END:VCALENDAR