BEGIN:VCALENDAR
VERSION:2.0
PRODID:-//Tukios.com/
BEGIN:VEVENT
UID:d5387232-b64f-4cb4-8c62-86ef9cdfceee@www.bartleyandsons.com
DTSTAMP:20260422T235205Z
DTSTART:20260424T190000Z
DTEND:20260425T010000Z
SUMMARY:Visitation
DESCRIPTION:
URL:https://www.bartleyandsons.com/obituaries/kyle-tipton
LOCATION:Bartley & Sons Gamaliel Chapel 315 East Main Street  Gamaliel KY 
	42140
GEO:36.6401471;-85.790623
END:VEVENT
END:VCALENDAR