BEGIN:VCALENDAR
VERSION:2.0
PRODID:-//Tukios.com/
BEGIN:VEVENT
UID:2ea4a272-6b2c-4ea5-8915-c0ab8a40d39a@www.bartleyandsons.com
DTSTAMP:20260422T235851Z
DTSTART:20260425T130000Z
DTEND:20260425T160000Z
SUMMARY:Visitation
DESCRIPTION:
URL:https://www.bartleyandsons.com/obituaries/kyle-tipton
LOCATION:Bartley & Sons Gamaliel Chapel 315 East Main Street  Gamaliel KY 
	42140
GEO:36.6401471;-85.790623
END:VEVENT
END:VCALENDAR