BEGIN:VCALENDAR
VERSION:2.0
PRODID:-//Tukios.com/
BEGIN:VEVENT
UID:055bf9b2-33e8-47fb-8feb-1a25d6b2f986@www.bartleyandsons.com
DTSTAMP:20260422T235851Z
DTSTART:20260425T160000Z
DTEND:20260425T170000Z
SUMMARY:Funeral Service
DESCRIPTION:
URL:https://www.bartleyandsons.com/obituaries/kyle-tipton
LOCATION:Bartley & Sons Gamaliel Chapel 315 East Main Street  Gamaliel KY 
	42140
GEO:36.6401471;-85.790623
END:VEVENT
END:VCALENDAR