BEGIN:VCALENDAR
VERSION:2.0
PRODID:-//Tukios.com/
BEGIN:VEVENT
UID:6424aa21-4ce7-4841-b57e-3916d46e9fd6@www.bartleyandsons.com
DTSTAMP:20260422T235110Z
DTSTART:20260425
SUMMARY:Burial
DESCRIPTION:
URL:https://www.bartleyandsons.com/obituaries/kyle-tipton
LOCATION: 825 Gamaliel Rd.  Gamaliel KY 42140
GEO:36.6428857;-85.7641974
END:VEVENT
END:VCALENDAR